BEGIN:VCALENDAR
VERSION:2.0
PRODID:-//Tukios.com/
BEGIN:VEVENT
UID:f53fdc08-8747-4b34-82eb-0224299a383a@www.waterburyfuneralserviceinc.com
DTSTAMP:20260421T234851Z
DTSTART:20260504T210000Z
DTEND:20260505T000000Z
SUMMARY:Visitation
DESCRIPTION:
URL:https://www.waterburyfuneralserviceinc.com/obituaries/william-bill-stephens
LOCATION:Waterbury Funeral Service of Sioux City 4125 Orleans Ave  Sioux 
	City IA 51106
GEO:42.4722248;-96.3540078
END:VEVENT
END:VCALENDAR