BEGIN:VCALENDAR
VERSION:2.0
PRODID:-//Tukios.com/
BEGIN:VEVENT
UID:f54cc793-cfe5-40ef-a688-9e240dbd154f@www.waterburyfuneralserviceinc.com
DTSTAMP:20260424T000647Z
DTSTART:20260427T150000Z
DTEND:20260427T160000Z
SUMMARY:Graveside Service
DESCRIPTION:
URL:https://www.waterburyfuneralserviceinc.com/obituaries/oliver-milt-williams
LOCATION:Memorial Park Cemetery 6605 Morningside Ave  Sioux City IA 51106
GEO:42.453649;-96.324195
END:VEVENT
END:VCALENDAR