BEGIN:VCALENDAR
VERSION:2.0
PRODID:-//Tukios.com/
BEGIN:VEVENT
UID:e9cbb341-ddd2-4eb2-bd56-932e4c150003@www.waterburyfuneralserviceinc.com
DTSTAMP:20260423T004734Z
DTSTART:20260428
SUMMARY:Burial
DESCRIPTION:
URL:https://www.waterburyfuneralserviceinc.com/obituaries/michael-topf
LOCATION: 6605 Morningside Ave  Sioux City IA 51106
GEO:42.453649;-96.324195
END:VEVENT
END:VCALENDAR