BEGIN:VCALENDAR
VERSION:2.0
PRODID:-//Tukios.com/
BEGIN:VEVENT
UID:434a023e-ce6b-4be6-acad-0f44dd6a1155@www.waterburyfuneralserviceinc.com
DTSTAMP:20260423T004638Z
DTSTART:20260427T210000Z
DTEND:20260428T000000Z
SUMMARY:Visitation
DESCRIPTION:
URL:https://www.waterburyfuneralserviceinc.com/obituaries/michael-topf
LOCATION: 4125 Orleans Ave  Sioux City IA 51106
GEO:42.4722248;-96.3540078
END:VEVENT
END:VCALENDAR