BEGIN:VCALENDAR
VERSION:2.0
PRODID:-//Tukios.com/
BEGIN:VEVENT
UID:5ab76b60-7856-4b25-a9e5-cc53a0db5046@www.waterburyfuneralserviceinc.com
DTSTAMP:20260423T004805Z
DTSTART:20260428T153000Z
DTEND:20260428T163000Z
SUMMARY:Mass
DESCRIPTION:
URL:https://www.waterburyfuneralserviceinc.com/obituaries/michael-topf
LOCATION:Mater Dei Parish, Immaculate Conception Church 1212 Morningside 
	Avenue  Sioux City IA 51106
GEO:42.4783943;-96.3607511
END:VEVENT
END:VCALENDAR