BEGIN:VCALENDAR
VERSION:2.0
PRODID:-//Tukios.com/
BEGIN:VEVENT
UID:d6785ee7-d8eb-4cc2-9006-d8e9c3bd0267@www.waterburyfuneralserviceinc.com
DTSTAMP:20260420T215717Z
DTSTART:20260501T000000Z
DTEND:20260501T010000Z
SUMMARY:Memorial Service
DESCRIPTION:
URL:https://www.waterburyfuneralserviceinc.com/obituaries/lela-bonser
LOCATION:Waterbury Funeral Service of Sioux City 4125 Orleans Ave  Sioux 
	City IA 51106
GEO:42.4722248;-96.3540078
END:VEVENT
END:VCALENDAR