BEGIN:VCALENDAR
VERSION:2.0
PRODID:-//Tukios.com/
BEGIN:VEVENT
UID:b987df6f-ff38-4d4f-95b6-ae58792aef71@www.waterburyfuneralserviceinc.com
DTSTAMP:20260420T215509Z
DTSTART:20260430T220000Z
DTEND:20260501T000000Z
SUMMARY:Visitation
DESCRIPTION:
URL:https://www.waterburyfuneralserviceinc.com/obituaries/lela-bonser
LOCATION: 4125 Orleans Ave  Sioux City IA 51106
GEO:42.4722248;-96.3540078
END:VEVENT
END:VCALENDAR