BEGIN:VCALENDAR
VERSION:2.0
PRODID:-//Tukios.com/
BEGIN:VEVENT
UID:777585c8-3083-4d5a-be3c-412ed5695940@www.waterburyfuneralserviceinc.com
DTSTAMP:20260421T004405Z
DTSTART:20260423T170000Z
DTEND:20260423T180000Z
SUMMARY:Funeral Service
DESCRIPTION:
URL:https://www.waterburyfuneralserviceinc.com/obituaries/franklin-frank-wood
LOCATION:St. Paul’s Indian Mission 524 Center St  Sioux City IA 51103
GEO:42.5027724;-96.4207056
END:VEVENT
END:VCALENDAR