BEGIN:VCALENDAR
VERSION:2.0
PRODID:-//Tukios.com/
BEGIN:VEVENT
UID:99e4a5e5-143c-4bc1-931e-8ca9733e93be@www.waterburyfuneralserviceinc.com
DTSTAMP:20260421T005028Z
DTSTART:20260421T200000Z
DTEND:20260423T170000Z
SUMMARY:Visitation
DESCRIPTION:
URL:https://www.waterburyfuneralserviceinc.com/obituaries/franklin-frank-wood
LOCATION:St. Paul’s Indian Mission 524 Center St  Sioux City IA 51103
GEO:42.5027724;-96.4207056
END:VEVENT
END:VCALENDAR