BEGIN:VCALENDAR
VERSION:2.0
PRODID:-//Tukios.com/
BEGIN:VEVENT
UID:2dc3fbcf-e3a8-40d1-85b2-af7b5c7f4c08@www.waterburyfuneralserviceinc.com
DTSTAMP:20260420T215127Z
DTSTART:20260424T160000Z
DTEND:20260424T170000Z
SUMMARY:Funeral Service
DESCRIPTION:
URL:https://www.waterburyfuneralserviceinc.com/obituaries/bernetta-bj-verley
LOCATION:Southern Hills Baptist Church 4301 Old Lakeport Rd  Sioux City 
	IA 51106
GEO:42.4399152;-96.3423203
END:VEVENT
END:VCALENDAR