BEGIN:VCALENDAR
VERSION:2.0
PRODID:-//Tukios.com/
BEGIN:VEVENT
UID:1c8e3410-ec6f-4b3f-b3a0-f9f9402d2b6b@www.waterburyfuneralserviceinc.com
DTSTAMP:20260420T214500Z
DTSTART:20260424T150000Z
DTEND:20260424T160000Z
SUMMARY:Visitation
DESCRIPTION:
URL:https://www.waterburyfuneralserviceinc.com/obituaries/bernetta-bj-verley
LOCATION:Southern Hills Baptist Church 4301 Old Lakeport Rd  Sioux City 
	IA 51106
GEO:42.4399152;-96.3423203
END:VEVENT
END:VCALENDAR